BEGIN:VCALENDAR
VERSION:2.0
PRODID:-//Mettons du cœur dans les épinards ! - ECPv6.13.2.1//NONSGML v1.0//EN
CALSCALE:GREGORIAN
METHOD:PUBLISH
X-WR-CALNAME:Mettons du cœur dans les épinards !
X-ORIGINAL-URL:https://mettonsducoeurdanslesepinards.fr
X-WR-CALDESC:Évènements pour Mettons du cœur dans les épinards !
REFRESH-INTERVAL;VALUE=DURATION:PT1H
X-Robots-Tag:noindex
X-PUBLISHED-TTL:PT1H
BEGIN:VTIMEZONE
TZID:Europe/Paris
BEGIN:DAYLIGHT
TZOFFSETFROM:+0100
TZOFFSETTO:+0200
TZNAME:CEST
DTSTART:20260329T010000
END:DAYLIGHT
BEGIN:STANDARD
TZOFFSETFROM:+0200
TZOFFSETTO:+0100
TZNAME:CET
DTSTART:20261025T010000
END:STANDARD
END:VTIMEZONE
BEGIN:VEVENT
DTSTART;TZID=Europe/Paris:20260503T090000
DTEND;TZID=Europe/Paris:20260503T120000
DTSTAMP:20260421T145051
CREATED:20260303T101942Z
LAST-MODIFIED:20260303T101942Z
UID:829-1777798800-1777809600@mettonsducoeurdanslesepinards.fr
SUMMARY:Marché des producteur·rice·s #21
DESCRIPTION:🥕 Marché de produits locaux et de saison 🥕 \n Abonnez-vous à la lettre d’information de l’association ou allez sur notre page Facebook pour connaître les stands présents ! \n  \n☕️🍵 Café et thé offert par l’association 😊 \n  \nNotre association met en place un système de carte d’achat afin de rendre le marché véritablement accessible à tous·tes :
URL:https://mettonsducoeurdanslesepinards.fr/evenement/marche-des-producteur%c2%b7rice%c2%b7s-21/
LOCATION:Rue de la Noue – Aÿ\, Aÿ-Champagne\, 51160
CATEGORIES:Marché des producteur·rice·s
ATTACH;FMTTYPE=image/jpeg:https://mettonsducoeurdanslesepinards.fr/wp-content/uploads/2025/04/marche2_16-92.jpg
END:VEVENT
BEGIN:VEVENT
DTSTART;TZID=Europe/Paris:20260512T133000
DTEND;TZID=Europe/Paris:20260512T183000
DTSTAMP:20260421T145051
CREATED:20260417T114703Z
LAST-MODIFIED:20260417T114703Z
UID:848-1778592600-1778610600@mettonsducoeurdanslesepinards.fr
SUMMARY:Popote & Papote #3
DESCRIPTION:Moment convivial de cuisine de fruits et légumes sains et antigaspi : venez cuisiner avec nous à partir de 13h30 et repartez avec le fruit de votre travail ! \nLes surplus seront vendus à prix libre sur le parvis de la Mairie d’Aÿ à partir de 18h30 (pensez à prendre de la monnaie 😉). Vous pouvez également commander à l’avance un colis surprise de nos produits transformés ! \n  \n 
URL:https://mettonsducoeurdanslesepinards.fr/evenement/popote-papote-3/
LOCATION:Salle des Fêtes d’Aÿ – entrée Quai du port\, 35 Bd Charles de Gaulle\, Aÿ-Champagne\, 51160\, France
END:VEVENT
BEGIN:VEVENT
DTSTART;TZID=Europe/Paris:20260523T150000
DTEND;TZID=Europe/Paris:20260523T180000
DTSTAMP:20260421T145051
CREATED:20260417T115559Z
LAST-MODIFIED:20260417T115559Z
UID:852-1779548400-1779559200@mettonsducoeurdanslesepinards.fr
SUMMARY:Fête de Quartier de Bernon
DESCRIPTION:La ville d’Epernay organise\, comme chaque année\, la Fête de Bernon ! \nElle aura lieu le samedi 23 mai de 15h à 23h et nous serons de la partie jusqu’à 18h 🥳 \n\nLa ville d’Epernay fait d’ailleurs un appel à bénévoles pour aider à tout installer à 9h : rejoignez une équipe en fonction de vos capacités et le repas du midi vous sera offert ! \nPlus d’informations et inscriptions auprès de la ville au 03.26.53.30.71 ou à caroline.lenel@ville-epernay.fr \n 
URL:https://mettonsducoeurdanslesepinards.fr/evenement/fete-de-quartier-de-bernon/
LOCATION:Place Fada N’Gourma à Epernay
END:VEVENT
END:VCALENDAR