BEGIN:VCALENDAR
VERSION:2.0
PRODID:-//Mettons du cœur dans les épinards ! - ECPv6.13.2.1//NONSGML v1.0//EN
CALSCALE:GREGORIAN
METHOD:PUBLISH
X-ORIGINAL-URL:https://mettonsducoeurdanslesepinards.fr
X-WR-CALDESC:Évènements pour Mettons du cœur dans les épinards !
REFRESH-INTERVAL;VALUE=DURATION:PT1H
X-Robots-Tag:noindex
X-PUBLISHED-TTL:PT1H
BEGIN:VTIMEZONE
TZID:Europe/Paris
BEGIN:DAYLIGHT
TZOFFSETFROM:+0100
TZOFFSETTO:+0200
TZNAME:CEST
DTSTART:20260329T010000
END:DAYLIGHT
BEGIN:STANDARD
TZOFFSETFROM:+0200
TZOFFSETTO:+0100
TZNAME:CET
DTSTART:20261025T010000
END:STANDARD
END:VTIMEZONE
BEGIN:VEVENT
DTSTART;TZID=Europe/Paris:20260201T090000
DTEND;TZID=Europe/Paris:20260201T120000
DTSTAMP:20260421T162108
CREATED:20251124T102859Z
LAST-MODIFIED:20251124T102859Z
UID:758-1769936400-1769947200@mettonsducoeurdanslesepinards.fr
SUMMARY:Marché des producteur·rice·s #18
DESCRIPTION:🥕 Marché de produits locaux et de saison 🥕 \n Abonnez-vous à la lettre d’information de l’association pour connaître les stands présents ! \n  \n☕️🍵 Café et thé offert par l’association 😊 \n  \n🗣 Nous proposons un espace de discussion avec les producteur·rices ! Venez échanger avec elleux autour d’un café ou d’un verre de bière sur leurs méthodes de production\, la construction des prix\, la différence entre élevage en bio et élevage en conventionnel\, … \nNotre association met en place un système de carte d’achat afin de rendre le marché véritablement accessible à tous·tes :
URL:https://mettonsducoeurdanslesepinards.fr/evenement/marche-des-producteur%c2%b7rice%c2%b7s-18/
LOCATION:Rue de la Noue – Aÿ\, Aÿ-Champagne\, 51160
CATEGORIES:Marché des producteur·rice·s
ATTACH;FMTTYPE=image/jpeg:https://mettonsducoeurdanslesepinards.fr/wp-content/uploads/2025/04/marche2_16-92.jpg
END:VEVENT
BEGIN:VEVENT
DTSTART;TZID=Europe/Paris:20260225T140000
DTEND;TZID=Europe/Paris:20260225T160000
DTSTAMP:20260421T162108
CREATED:20260225T102545Z
LAST-MODIFIED:20260225T102545Z
UID:823-1772028000-1772035200@mettonsducoeurdanslesepinards.fr
SUMMARY:Atelier de cuisine zéro déchet #2
DESCRIPTION:Venez apprendre à cuisiner sans déchet avec nous ! \nNous organisons un atelier de cuisine zéro déchet 😋 avec l’agglo d’Epernay de 14h à 16h à l’Espace culturel de Magenta. \nL’animation est ouverte aux enfants accompagnés\, et vous pourrez repartir avec le fruit de votre travail 😊 \nInscription obligatoire auprès de l’agglo d’Epernay au 03 26 56 47 15 ou à infodechets@epernay-agglo.fr \nAu menu : \n\ncuisine d’un risotto avec son bouillon de légumes zéro-déchet fait maison (à ramener chez soit) 🥘\npréparation d’un vinaigre de peau de banane (à ramener chez soit) 🍌\nune surprise sucrée à déguster ensemble🧁\ndes idées de recettes gourmandes et originales 😋\n\nPensez à prendre un tupperware et des récipients pour le bouillon (liquide) et le vinaigre de banane ! \nAtelier gratuit
URL:https://mettonsducoeurdanslesepinards.fr/evenement/atelier-de-cuisine-zero-dechet/
LOCATION:Espace culturel de Magenta\, 1 rue de la République\, Magenta\, 51530
END:VEVENT
END:VCALENDAR