BEGIN:VCALENDAR
VERSION:2.0
PRODID:-//Mettons du cœur dans les épinards ! - ECPv6.13.2.1//NONSGML v1.0//EN
CALSCALE:GREGORIAN
METHOD:PUBLISH
X-ORIGINAL-URL:https://mettonsducoeurdanslesepinards.fr
X-WR-CALDESC:Évènements pour Mettons du cœur dans les épinards !
REFRESH-INTERVAL;VALUE=DURATION:PT1H
X-Robots-Tag:noindex
X-PUBLISHED-TTL:PT1H
BEGIN:VTIMEZONE
TZID:Europe/Paris
BEGIN:DAYLIGHT
TZOFFSETFROM:+0100
TZOFFSETTO:+0200
TZNAME:CEST
DTSTART:20250330T010000
END:DAYLIGHT
BEGIN:STANDARD
TZOFFSETFROM:+0200
TZOFFSETTO:+0100
TZNAME:CET
DTSTART:20251026T010000
END:STANDARD
END:VTIMEZONE
BEGIN:VEVENT
DTSTART;TZID=Europe/Paris:20251102T080000
DTEND;TZID=Europe/Paris:20251128T170000
DTSTAMP:20260421T204834
CREATED:20250930T143833Z
LAST-MODIFIED:20251030T104020Z
UID:684-1762070400-1764349200@mettonsducoeurdanslesepinards.fr
SUMMARY:🎉 Les Champs Gourmands
DESCRIPTION:Nous organisons la 2ème édition de notre festival de sensibilisation aux questions alimentaires ! \nAu programme : \n\nDimanche 2 novembre : marché de producteur·rices (Aÿ) ;\nJeudi 6 novembre : ciné-débat autour du film Transmettre avec Terre de Liens\, l’ADASEA\, l’ARDEAR\, le PAT de la Montagne de Reims et Jonathan Bouton\, producteur de la Ferme des Marais (Germaine) ;\nMardi 18 novembre : ciné-débat autour du film Leurs Champs du cœur avec les Colibris d’Epernay et l’intervention de Pierre-Edouard Schadeck\, maraîcher sur Athis (Epernay) ;\nJeudi 20 novembre : ciné-débat autour du film Manger pour vivre avec l’Epi Vert de Dormans et l’intervention de Fanny Peers éleveuse de la Ferme de la Maison Rouge (Dormans) ;\nJeudi 27 novembre : 14ème édition de la Marmite Ambulante (Aÿ) et Conférence gesticulée Faim de vie (Dormans) ;\nVendredi 28 novembre : 14ème édition de la Marmite Ambulante (Aÿ) et Conférence gesticulée Faim de vie (Aÿ).\n\nVous pourrez trouver le détail des horaires et des lieux en cliquant sur les évènements ou en revenant sur l’agenda de notre site 📆 \n💶 : Nos animations sont à toutes prix libre et seront suivies d’un moment convivial autour d’une collation 🥂 \n🎬: Les projections se font dans le cadre du festival de films AlimenTerre \n  \n🎉 Nous avons hâte de partager ces moments conviviaux avec vous 😊
URL:https://mettonsducoeurdanslesepinards.fr/evenement/les-champs-gourmands/
ATTACH;FMTTYPE=image/png:https://mettonsducoeurdanslesepinards.fr/wp-content/uploads/2025/09/BandeauMail_Festival-alimentation-durable-compressee-site.png
END:VEVENT
BEGIN:VEVENT
DTSTART;TZID=Europe/Paris:20251102T090000
DTEND;TZID=Europe/Paris:20251102T120000
DTSTAMP:20260421T204834
CREATED:20250909T142134Z
LAST-MODIFIED:20250909T142134Z
UID:634-1762074000-1762084800@mettonsducoeurdanslesepinards.fr
SUMMARY:Marché des producteur·rice·s #16
DESCRIPTION:🥕 Marché de produits locaux et de saison 🥕  \n🗣 Nous proposons un espace de discussion avec les producteur·rices ! Venez échanger avec elleux autour d’un café ou d’un verre de bière sur leurs méthodes de production\, la construction des prix\, la différence entre élevage en bio et élevage en conventionnel\, … \nNotre association met en place un système de carte d’achat afin de rendre le marché véritablement accessible :
URL:https://mettonsducoeurdanslesepinards.fr/evenement/marche-des-producteur%c2%b7rice%c2%b7s-16/
LOCATION:Rue de la Noue – Aÿ\, Aÿ-Champagne\, 51160
CATEGORIES:Marché des producteur·rice·s
ATTACH;FMTTYPE=image/jpeg:https://mettonsducoeurdanslesepinards.fr/wp-content/uploads/2025/04/marche2_16-92.jpg
END:VEVENT
BEGIN:VEVENT
DTSTART;TZID=Europe/Paris:20251106T183000
DTEND;TZID=Europe/Paris:20251106T200000
DTSTAMP:20260421T204834
CREATED:20250930T134157Z
LAST-MODIFIED:20251009T073259Z
UID:660-1762453800-1762459200@mettonsducoeurdanslesepinards.fr
SUMMARY:Les Champs Gourmands : projection du film Transmettre
DESCRIPTION:Dans le cadre de notre festival de sensibilisation aux questions alimentaires\, Les Champs Gourmands\, nous organisons un ciné-débat autour du film Transmettre en collaboration avec Terre de Liens 51. \nSynopsis : Dans une ferme vosgienne\, Monique et Francis s’interrogent sur la transmission de leur vie de labeur et des valeurs paysannes qu’ils portent. Un récit intime et universel qui questionne l’avenir de notre agriculture et la manière de la faire perdurer. \nConsultez la bande annonce : https://www.alimenterre.org/transmettre \n  \n🕰️ : 18h30 \n📍 : Cerf à 3 pattes\, 3 rue du pré Michaux\, Germaine \n💶 : Prix libre (pensez à prendre de la monnaie !)
URL:https://mettonsducoeurdanslesepinards.fr/evenement/les-champs-gourmands-projection-du-film-transmettre/
LOCATION:Cerf à 3 pattes\, 1 Rue Du Pré Michaux\, Germaine\, 51160\, France
ATTACH;FMTTYPE=image/png:https://mettonsducoeurdanslesepinards.fr/wp-content/uploads/2025/09/Capture-decran-2025-09-30-154554.png
END:VEVENT
BEGIN:VEVENT
DTSTART;TZID=Europe/Paris:20251118T200000
DTEND;TZID=Europe/Paris:20251118T213000
DTSTAMP:20260421T204834
CREATED:20250930T135637Z
LAST-MODIFIED:20251009T082106Z
UID:675-1763496000-1763501400@mettonsducoeurdanslesepinards.fr
SUMMARY:Les Champs Gourmands : projection du film Leurs champs du Cœur
DESCRIPTION:Dans le cadre de notre festival de sensibilisation aux questions alimentaires\, Les Champs Gourmands\, nous organisons un ciné-débat autour du film Leurs Champs du Cœur en collaboration avec les Colibris d’Epernay et avec l’intervention de Pierre-Edouard Schadeck\, maraîcher d’Athis Vegetabilis. \nSynopsis : Quinze agriculteur·rices\, aux parcours et aux voix singulières\, partagent leurs galères\, leurs espoirs et la beauté de leur métier. Un tour de France sincère et inspirant qui invite à réinviter ensemble notre manière de nous nourrir. \nConsultez la bande annonce : https://www.alimenterre.org/leurs-champs-du-coeur \n  \n🕰️ : 20h \n📍 : Cinéma Le Palace\, 33 bd de la Motte\, Epernay \n💶 : Prix libre (pensez à prendre de la monnaie !) \n 
URL:https://mettonsducoeurdanslesepinards.fr/evenement/les-champs-gourmands-projection-du-film-leurs-champs-du-coeur/
LOCATION:Cinéma le Palace\, 33 Bd de la Motte\, Epernay\, 51200
ATTACH;FMTTYPE=image/png:https://mettonsducoeurdanslesepinards.fr/wp-content/uploads/2025/09/Capture-decran-2025-09-30-155614.png
END:VEVENT
BEGIN:VEVENT
DTSTART;TZID=Europe/Paris:20251120T193000
DTEND;TZID=Europe/Paris:20251120T210000
DTSTAMP:20260421T204834
CREATED:20251003T081009Z
LAST-MODIFIED:20251008T152543Z
UID:679-1763667000-1763672400@mettonsducoeurdanslesepinards.fr
SUMMARY:Les Champs Gourmands : projection du film Manger pour vivre
DESCRIPTION:Dans le cadre de notre festival de sensibilisation aux questions alimentaires\, Les Champs Gourmands\, nous organisons un ciné-débat autour du film Manger pour vivre en collaboration avec Familles rurales de Dormans et avec l’intervention de Fanny Peers\, éleveuse de la Ferme de la Maison Rouge. \nSynopsis : En France\, une personne sur dix peine aujourd’hui à se nourrir. A travers quatre portraits et une initiative inédite à Montpellier\, le film ouvre la réflexion sur un droit essentiel : celui d’un accès digne et équitable à une alimentation saine. \nConsultez la bande annonce : https://www.alimenterre.org/manger-pour-vivre \n  \n🕰️ : 19h30 \n📍 : Familles rurales\, 3 rue du général Leclerc\, 51700 Dormans \n💶 : Prix libre (pensez à prendre de la monnaie !) \n 
URL:https://mettonsducoeurdanslesepinards.fr/evenement/les-champs-gourmands-projection-du-film-manger-pour-vivre/
LOCATION:Centre social Familles rurales\, 3 Rue du Général Leclerc\, Dormans\, 51700\, France
ATTACH;FMTTYPE=image/png:https://mettonsducoeurdanslesepinards.fr/wp-content/uploads/2025/09/Capture-decran-2025-09-30-160432.png
END:VEVENT
BEGIN:VEVENT
DTSTART;TZID=Europe/Paris:20251127T090000
DTEND;TZID=Europe/Paris:20251128T140000
DTSTAMP:20260421T204834
CREATED:20250702T124948Z
LAST-MODIFIED:20250702T124948Z
UID:558-1764234000-1764338400@mettonsducoeurdanslesepinards.fr
SUMMARY:Marmite ambulante #14
DESCRIPTION:Venez cuisiner avec nous des produits de producteur·rices bio du territoire\, ou profiter du repas partagé à prix libre (pensez à prendre de la monnaie !). \nInscriptions obligatoires : au 07.57.18.18.70 ou à mettonsducoeurdanslesepinards@ecomail.fr. \nLes places sont limitées\, réservez vite !
URL:https://mettonsducoeurdanslesepinards.fr/evenement/marmite-ambulante-14/
LOCATION:Salle des Fêtes d’Aÿ – entrée Quai du port\, 35 Bd Charles de Gaulle\, Aÿ-Champagne\, 51160\, France
CATEGORIES:Marmite ambulante
ATTACH;FMTTYPE=image/jpeg:https://mettonsducoeurdanslesepinards.fr/wp-content/uploads/2025/04/edward-howell-hYHQSQrWaL4-unsplash_coupe-1.jpg
END:VEVENT
BEGIN:VEVENT
DTSTART;TZID=Europe/Paris:20251127T090000
DTEND;TZID=Europe/Paris:20251128T140000
DTSTAMP:20260421T204834
CREATED:20260210T151824Z
LAST-MODIFIED:20260210T151824Z
UID:819-1764234000-1764338400@mettonsducoeurdanslesepinards.fr
SUMMARY:Marmite ambulante #15
DESCRIPTION:Venez cuisiner avec nous des produits de producteur·rices bio du territoire\, ou profiter du repas partagé à prix libre (pensez à prendre de la monnaie !). \nInscriptions obligatoires : au 07.57.18.18.70 ou à mettonsducoeurdanslesepinards@ecomail.fr. \nLes places sont limitées\, réservez vite !
URL:https://mettonsducoeurdanslesepinards.fr/evenement/marmite-ambulante-15/
LOCATION:Hôte Castel-Jeanson\, 24 rue Jeanson\, Aÿ-Champagne\, 51160
CATEGORIES:Marmite ambulante
ATTACH;FMTTYPE=image/jpeg:https://mettonsducoeurdanslesepinards.fr/wp-content/uploads/2025/04/edward-howell-hYHQSQrWaL4-unsplash_coupe-1.jpg
END:VEVENT
BEGIN:VEVENT
DTSTART;TZID=Europe/Paris:20251127T193000
DTEND;TZID=Europe/Paris:20251127T210000
DTSTAMP:20260421T204834
CREATED:20250930T150822Z
LAST-MODIFIED:20251009T080424Z
UID:686-1764271800-1764277200@mettonsducoeurdanslesepinards.fr
SUMMARY:Les Champs Gourmands : conférence gesticulée Faim de vie
DESCRIPTION:Dans le cadre de notre festival de sensibilisation aux questions alimentaires\, Les Champs Gourmands\, nous vous proposons Faim de vie\, une conférence gesticulée décapante qui mêle théâtre\, humour et réflexion pour déshabiller les mécanismes de l’aide alimentaire. Un menu engagé et savoureux\, à consommer sans modération ! \nPour plus d’informations sur la conférence gesticulée : https://www.fdss.be/fr/conference-gesticulee-faim-de-vie/ \n  \n🕰️ : 19h30 \n📍 : Salle des Fêtes de Dormans\, 28 avenue de Paris\, Dormans \n💶 : Prix libre (pensez à prendre de la monnaie !)
URL:https://mettonsducoeurdanslesepinards.fr/evenement/les-champs-gourmands-conference-gesticulee-faim-de-vie/
LOCATION:Salle des Fêtes de Dormans\, 28 Avenue de Paris\, Dormans\, 51700\, France
ATTACH;FMTTYPE=image/jpeg:https://mettonsducoeurdanslesepinards.fr/wp-content/uploads/2025/09/19029-400x256_faim-vie-1.jpg
END:VEVENT
BEGIN:VEVENT
DTSTART;TZID=Europe/Paris:20251128T193000
DTEND;TZID=Europe/Paris:20251128T210000
DTSTAMP:20260421T204834
CREATED:20250930T151536Z
LAST-MODIFIED:20251009T080628Z
UID:691-1764358200-1764363600@mettonsducoeurdanslesepinards.fr
SUMMARY:Les Champs Gourmands : conférence gesticulée Faim de vie
DESCRIPTION:Dans le cadre de notre festival de sensibilisation aux questions alimentaires\, Les Champs Gourmands\, nous vous proposons Faim de vie\, une conférence gesticulée décapante qui mêle théâtre\, humour et réflexion pour déshabiller les mécanismes de l’aide alimentaire. Un menu engagé et savoureux\, à consommer sans modération ! \nPour plus d’informations sur la conférence gesticulée : https://www.fdss.be/fr/conference-gesticulee-faim-de-vie/ \n  \n🕰️ : 19h30 \n📍 : MJCi de la CCGVM\, 5 rue de la Liberté\, Aÿ \n💶 : Prix libre (pensez à prendre de la monnaie !) \n 
URL:https://mettonsducoeurdanslesepinards.fr/evenement/les-champs-gourmands-conference-gesticulee-faim-de-vie-2/
LOCATION:MJCi de la CCGVM\, 5 Rue de la Liberté\, Aÿ\, 51160\, France
ATTACH;FMTTYPE=image/jpeg:https://mettonsducoeurdanslesepinards.fr/wp-content/uploads/2025/09/19029-400x256_faim-vie-1.jpg
END:VEVENT
END:VCALENDAR