BEGIN:VCALENDAR
VERSION:2.0
PRODID:-//Mettons du cœur dans les épinards ! - ECPv6.13.2.1//NONSGML v1.0//EN
CALSCALE:GREGORIAN
METHOD:PUBLISH
X-ORIGINAL-URL:https://mettonsducoeurdanslesepinards.fr
X-WR-CALDESC:Évènements pour Mettons du cœur dans les épinards !
REFRESH-INTERVAL;VALUE=DURATION:PT1H
X-Robots-Tag:noindex
X-PUBLISHED-TTL:PT1H
BEGIN:VTIMEZONE
TZID:Europe/Paris
BEGIN:DAYLIGHT
TZOFFSETFROM:+0100
TZOFFSETTO:+0200
TZNAME:CEST
DTSTART:20250330T010000
END:DAYLIGHT
BEGIN:STANDARD
TZOFFSETFROM:+0200
TZOFFSETTO:+0100
TZNAME:CET
DTSTART:20251026T010000
END:STANDARD
END:VTIMEZONE
BEGIN:VEVENT
DTSTART;TZID=Europe/Paris:20251005T090000
DTEND;TZID=Europe/Paris:20251005T120000
DTSTAMP:20260421T221838
CREATED:20250901T074528Z
LAST-MODIFIED:20250909T142037Z
UID:625-1759654800-1759665600@mettonsducoeurdanslesepinards.fr
SUMMARY:Marché des producteur·rice·s #15
DESCRIPTION:🥕 Marché de produits locaux et de saison 🥕  \n🗣 Nous proposons un espace de discussion avec les producteur·rices ! Venez échanger avec elleux autour d’un café ou d’un verre de bière sur leurs méthodes de production\, la construction des prix\, la différence entre élevage en bio et élevage en conventionnel\, … \nNotre association met en place un système de carte d’achat afin de rendre le marché véritablement accessible :
URL:https://mettonsducoeurdanslesepinards.fr/evenement/marche-des-producteur%c2%b7rice%c2%b7s-15/
LOCATION:Rue de la Noue – Aÿ\, Aÿ-Champagne\, 51160
CATEGORIES:Marché des producteur·rice·s
ATTACH;FMTTYPE=image/jpeg:https://mettonsducoeurdanslesepinards.fr/wp-content/uploads/2025/04/marche2_16-92.jpg
END:VEVENT
BEGIN:VEVENT
DTSTART;TZID=Europe/Paris:20251011T140000
DTEND;TZID=Europe/Paris:20251011T170000
DTSTAMP:20260421T221838
CREATED:20250722T143158Z
LAST-MODIFIED:20250922T084001Z
UID:564-1760191200-1760202000@mettonsducoeurdanslesepinards.fr
SUMMARY:Fête de la Citrouille - Dégustation de soupe antigaspi : venez deviner les ingrédients !
DESCRIPTION:Nous serons présent·es lors de la Fête de la Citrouille 🎃 avec une dégustation de soupe antigaspi (on récupère des légumes bio qui allaient être jetés et on les cuisine en délicieuse soupe 😋). Venez essayer de deviner les ingrédients à notre stand ! \nNous proposerons également les produits de l’association (jus de pomme et confitures antigaspi) à prix libre 😊 \n 
URL:https://mettonsducoeurdanslesepinards.fr/evenement/fete-de-la-citrouille-degustation-de-soupe-antigaspi-venez-deviner-les-ingredients/
LOCATION:Parc de l’Horticulture à Epernay\, 5 Rue Comte de Lambertye\, Epernay\, 51200\, France
END:VEVENT
BEGIN:VEVENT
DTSTART;TZID=Europe/Paris:20251029T150000
DTEND;TZID=Europe/Paris:20251029T170000
DTSTAMP:20260421T221838
CREATED:20250722T144216Z
LAST-MODIFIED:20251020T130137Z
UID:568-1761750000-1761757200@mettonsducoeurdanslesepinards.fr
SUMMARY:Atelier de cuisine zéro déchet 🎃
DESCRIPTION:Venez apprendre à cuisiner sans déchet sur le thème d’Halloween 🎃 ! \nNous organisons un atelier de cuisine zéro déchet 😋 avec l’agglo d’Epernay de 15h à 17h à la Salle Communale de l’ancienne école de Monthelon. \nL’animation est ouverte aux enfants accompagnés\, et vous pourrez repartir avec le fruit de votre travail 😊 \nInscription obligatoire auprès de l’agglo d’Epernay au 03 26 56 47 15 ou à infodechets@epernay-agglo.fr \n  \nAtelier gratuit
URL:https://mettonsducoeurdanslesepinards.fr/evenement/atelier-zero-dechet/
LOCATION:Salle Communale de l’ancienne école\, 4 Rue des Chapelles\, Monthelon\, 51530
END:VEVENT
END:VCALENDAR