BEGIN:VCALENDAR
VERSION:2.0
PRODID:-//Mettons du cœur dans les épinards ! - ECPv6.13.2.1//NONSGML v1.0//EN
CALSCALE:GREGORIAN
METHOD:PUBLISH
X-ORIGINAL-URL:https://mettonsducoeurdanslesepinards.fr
X-WR-CALDESC:Évènements pour Mettons du cœur dans les épinards !
REFRESH-INTERVAL;VALUE=DURATION:PT1H
X-Robots-Tag:noindex
X-PUBLISHED-TTL:PT1H
BEGIN:VTIMEZONE
TZID:Europe/Paris
BEGIN:DAYLIGHT
TZOFFSETFROM:+0100
TZOFFSETTO:+0200
TZNAME:CEST
DTSTART:20250330T010000
END:DAYLIGHT
BEGIN:STANDARD
TZOFFSETFROM:+0200
TZOFFSETTO:+0100
TZNAME:CET
DTSTART:20251026T010000
END:STANDARD
END:VTIMEZONE
BEGIN:VEVENT
DTSTART;TZID=Europe/Paris:20250601T090000
DTEND;TZID=Europe/Paris:20250601T120000
DTSTAMP:20260422T042023
CREATED:20250417T125525Z
LAST-MODIFIED:20250513T091648Z
UID:408-1748768400-1748779200@mettonsducoeurdanslesepinards.fr
SUMMARY:Marché des producteur·rice·s #11
DESCRIPTION:Marché de produits locaux et de saison avec un système de double tarification des produits\, vous pouvez choisir entre payer : \n\n65% du prix du produit : prix accessible à tous·tes ;\n100% du prix du produit : prix rémunérateur pour les producteur·rices.\n\nAfin que les producteur·rices aient la garantie de toujours percevoir une juste rémunération\, l’association prendra en charge les 35% manquants du tarif à 65%. \nN.B. : la plupart des stands n’acceptent pas la carte bancaire\, pensez à prendre du liquide !
URL:https://mettonsducoeurdanslesepinards.fr/evenement/marche-des-producteur%c2%b7rice%c2%b7s-11/
LOCATION:Rue de la Noue – Aÿ\, Aÿ-Champagne\, 51160
CATEGORIES:Marché des producteur·rice·s
ATTACH;FMTTYPE=image/jpeg:https://mettonsducoeurdanslesepinards.fr/wp-content/uploads/2025/04/marche2_16-92.jpg
END:VEVENT
BEGIN:VEVENT
DTSTART;TZID=Europe/Paris:20250619T183000
DTEND;TZID=Europe/Paris:20250619T200000
DTSTAMP:20260422T042023
CREATED:20250519T173543Z
LAST-MODIFIED:20250604T090109Z
UID:524-1750357800-1750363200@mettonsducoeurdanslesepinards.fr
SUMMARY:Causerie : Quelle alimentation pour mon territoire ?
DESCRIPTION:Venez parler alimentation durable\, locale\, accessible\, saine\, rémunératrice pour les paysan·nes\, etc. avec nous ! L’association vous présentera ses pistes de réflexion pour construire ensemble un système alimentaire plus juste et durable sur notre territoire. \nLes discussions seront suivies d’un apéritif partagé\, n’hésitez pas à apporter de quoi grignoter !
URL:https://mettonsducoeurdanslesepinards.fr/evenement/causerie-sur-notre-alimentation/
LOCATION:Fabrique du Bidule\, ZI du Cheminet\, Aÿ-Champagne\, 51160
ATTACH;FMTTYPE=image/png:https://mettonsducoeurdanslesepinards.fr/wp-content/uploads/2025/05/Alimentation-durable-16-9-retrecie.png
END:VEVENT
BEGIN:VEVENT
DTSTART;TZID=Europe/Paris:20250625T183000
DTEND;TZID=Europe/Paris:20250625T200000
DTSTAMP:20260422T042023
CREATED:20250527T094118Z
LAST-MODIFIED:20250527T094118Z
UID:536-1750876200-1750881600@mettonsducoeurdanslesepinards.fr
SUMMARY:Soirée conviviale : présentation de l'association
DESCRIPTION:Venez découvrir l’association autour d’un apéritif partagé : nous vous présenterons nos actions ainsi que les différentes manières de s’impliquer dans l’association. \nN’hésitez pas à apporter de quoi grignoter ! \n 
URL:https://mettonsducoeurdanslesepinards.fr/evenement/soiree-conviviale-presentation-de-lassociation/
LOCATION:Espace de co-working ZAM\, rue de l'industrie\, Aÿ-Champagne\, 51160
END:VEVENT
END:VCALENDAR