BEGIN:VCALENDAR
VERSION:2.0
PRODID:-//Mettons du cœur dans les épinards ! - ECPv6.13.2.1//NONSGML v1.0//EN
CALSCALE:GREGORIAN
METHOD:PUBLISH
X-ORIGINAL-URL:https://mettonsducoeurdanslesepinards.fr
X-WR-CALDESC:Évènements pour Mettons du cœur dans les épinards !
REFRESH-INTERVAL;VALUE=DURATION:PT1H
X-Robots-Tag:noindex
X-PUBLISHED-TTL:PT1H
BEGIN:VTIMEZONE
TZID:Europe/Paris
BEGIN:DAYLIGHT
TZOFFSETFROM:+0100
TZOFFSETTO:+0200
TZNAME:CEST
DTSTART:20250330T010000
END:DAYLIGHT
BEGIN:STANDARD
TZOFFSETFROM:+0200
TZOFFSETTO:+0100
TZNAME:CET
DTSTART:20251026T010000
END:STANDARD
END:VTIMEZONE
BEGIN:VEVENT
DTSTART;TZID=Europe/Paris:20250918T090000
DTEND;TZID=Europe/Paris:20250919T140000
DTSTAMP:20260422T012539
CREATED:20250702T124846Z
LAST-MODIFIED:20250901T074914Z
UID:556-1758186000-1758290400@mettonsducoeurdanslesepinards.fr
SUMMARY:Marmite ambulante #13
DESCRIPTION:L’association Mettons du cœur dans les épinards ! revient avec sa cantine éphémère de produits locaux et durables😋 \nVenez cuisiner avec nous des produits de producteur·rices bio du territoire à la Salle des Fêtes d’Aÿ: \n– à 9h pour participer à la cuisine avec nos bénévoles ; \n– à 12h pour partager le repas. \n⚠️ Inscription obligatoire et jusqu’au mardi 16 septembre au 07.57.18.18.70 ou à mettonsducoeurdanslesepinards@ecomail.fr. Afin de pouvoir prévoir les bonnes quantités de nourriture\, nous n’accepterons pas d’inscription passé cette date. Merci pour votre compréhension 😊 \nLes places sont limitées\, réservez vite !
URL:https://mettonsducoeurdanslesepinards.fr/evenement/marmite-ambulante-13/
LOCATION:Salle des Fêtes d’Aÿ – entrée Quai du port\, 35 Bd Charles de Gaulle\, Aÿ-Champagne\, 51160\, France
CATEGORIES:Marmite ambulante
ATTACH;FMTTYPE=image/jpeg:https://mettonsducoeurdanslesepinards.fr/wp-content/uploads/2025/04/edward-howell-hYHQSQrWaL4-unsplash_coupe-1.jpg
END:VEVENT
END:VCALENDAR