BEGIN:VCALENDAR
VERSION:2.0
PRODID:-//Mettons du cœur dans les épinards ! - ECPv6.13.2.1//NONSGML v1.0//EN
CALSCALE:GREGORIAN
METHOD:PUBLISH
X-WR-CALNAME:Mettons du cœur dans les épinards !
X-ORIGINAL-URL:https://mettonsducoeurdanslesepinards.fr
X-WR-CALDESC:Évènements pour Mettons du cœur dans les épinards !
REFRESH-INTERVAL;VALUE=DURATION:PT1H
X-Robots-Tag:noindex
X-PUBLISHED-TTL:PT1H
BEGIN:VTIMEZONE
TZID:Europe/Paris
BEGIN:DAYLIGHT
TZOFFSETFROM:+0100
TZOFFSETTO:+0200
TZNAME:CEST
DTSTART:20250330T010000
END:DAYLIGHT
BEGIN:STANDARD
TZOFFSETFROM:+0200
TZOFFSETTO:+0100
TZNAME:CET
DTSTART:20251026T010000
END:STANDARD
END:VTIMEZONE
BEGIN:VEVENT
DTSTART;TZID=Europe/Paris:20250424T090000
DTEND;TZID=Europe/Paris:20250425T140000
DTSTAMP:20260422T084433
CREATED:20250403T113721Z
LAST-MODIFIED:20250415T150414Z
UID:79-1745485200-1745589600@mettonsducoeurdanslesepinards.fr
SUMMARY:Marmite ambulante #12
DESCRIPTION:Atelier de cuisine ouvert à tous·tes suivi d’un repas partagé à prix libre. \nInscription obligatoire : au 07.57.18.18.70 ou à mettonsducoeurdanslesepinards@ecomail.fr. \nLes places sont limitées\, réservez vite !
URL:https://mettonsducoeurdanslesepinards.fr/evenement/marmite-ambulante-12/
LOCATION:Salle des Fêtes d’Aÿ – entrée Quai du port\, 35 Bd Charles de Gaulle\, Aÿ-Champagne\, 51160\, France
CATEGORIES:Marmite ambulante
ATTACH;FMTTYPE=image/jpeg:https://mettonsducoeurdanslesepinards.fr/wp-content/uploads/2025/04/edward-howell-hYHQSQrWaL4-unsplash_coupe-1.jpg
END:VEVENT
END:VCALENDAR