BEGIN:VCALENDAR
VERSION:2.0
PRODID:-//Mettons du cœur dans les épinards ! - ECPv6.13.2.1//NONSGML v1.0//EN
CALSCALE:GREGORIAN
METHOD:PUBLISH
X-ORIGINAL-URL:https://mettonsducoeurdanslesepinards.fr
X-WR-CALDESC:Évènements pour Mettons du cœur dans les épinards !
REFRESH-INTERVAL;VALUE=DURATION:PT1H
X-Robots-Tag:noindex
X-PUBLISHED-TTL:PT1H
BEGIN:VTIMEZONE
TZID:Europe/Paris
BEGIN:DAYLIGHT
TZOFFSETFROM:+0100
TZOFFSETTO:+0200
TZNAME:CEST
DTSTART:20260329T010000
END:DAYLIGHT
BEGIN:STANDARD
TZOFFSETFROM:+0200
TZOFFSETTO:+0100
TZNAME:CET
DTSTART:20261025T010000
END:STANDARD
END:VTIMEZONE
BEGIN:VEVENT
DTSTART;TZID=Europe/Paris:20260607T090000
DTEND;TZID=Europe/Paris:20260607T120000
DTSTAMP:20260421T161745
CREATED:20260331T113729Z
LAST-MODIFIED:20260331T113729Z
UID:838-1780822800-1780833600@mettonsducoeurdanslesepinards.fr
SUMMARY:Marché des producteur·rice·s #22
DESCRIPTION:🥕 Marché de produits locaux et de saison 🥕 \n Abonnez-vous à la lettre d’information de l’association ou allez sur notre page Facebook pour connaître les stands présents ! \n  \n☕️🍵 Café et thé offert par l’association 😊 \n  \nNotre association met en place un système de carte d’achat afin de rendre le marché véritablement accessible à tous·tes :
URL:https://mettonsducoeurdanslesepinards.fr/evenement/marche-des-producteur%c2%b7rice%c2%b7s-22/
LOCATION:Rue de la Noue – Aÿ\, Aÿ-Champagne\, 51160
CATEGORIES:Marché des producteur·rice·s
ATTACH;FMTTYPE=image/jpeg:https://mettonsducoeurdanslesepinards.fr/wp-content/uploads/2025/04/marche2_16-92.jpg
END:VEVENT
END:VCALENDAR